BEGIN:VCALENDAR
VERSION:2.0
PRODID:-//The International Chef Academy - ECPv6.0.11//NONSGML v1.0//EN
CALSCALE:GREGORIAN
METHOD:PUBLISH
X-ORIGINAL-URL:https://www.internationalchefacademy.com/en/
X-WR-CALDESC:Events for The International Chef Academy
REFRESH-INTERVAL;VALUE=DURATION:PT1H
X-Robots-Tag:noindex
X-PUBLISHED-TTL:PT1H
BEGIN:VTIMEZONE
TZID:Europe/Rome
BEGIN:DAYLIGHT
TZOFFSETFROM:+0100
TZOFFSETTO:+0200
TZNAME:CEST
DTSTART:20260329T010000
END:DAYLIGHT
BEGIN:STANDARD
TZOFFSETFROM:+0200
TZOFFSETTO:+0100
TZNAME:CET
DTSTART:20261025T010000
END:STANDARD
END:VTIMEZONE
BEGIN:VEVENT
DTSTART;VALUE=DATE:20260420
DTEND;VALUE=DATE:20260421
DTSTAMP:20260420T104022
CREATED:20230328T102220Z
LAST-MODIFIED:20260327T141503Z
UID:10000050-1776643200-1776729599@www.internationalchefacademy.com
SUMMARY:Special flours in pasta
DESCRIPTION:Wholemeal\, Chestnuts\, Cocoa and Condiments. \nDuration: 4 hours
URL:https://www.internationalchefacademy.com/evento/special-flours-in-pasta/
LOCATION:Scuola di Cucina International Chef Academy\, Viale Europa 1\, Siena\, Italia
ATTACH;FMTTYPE=image/png:https://www.internationalchefacademy.com/wp-content/uploads/2023/03/farine-speciali-nella-pasta.png
END:VEVENT
BEGIN:VEVENT
DTSTART;VALUE=DATE:20260422
DTEND;VALUE=DATE:20260423
DTSTAMP:20260420T104022
CREATED:20230328T104045Z
LAST-MODIFIED:20260327T141611Z
UID:10000058-1776816000-1776902399@www.internationalchefacademy.com
SUMMARY:Browse sweets
DESCRIPTION:Puff pastry\, Croissant and Pain au chocolat. \nDurata: 3 + 3 hours
URL:https://www.internationalchefacademy.com/evento/browse-sweets-2/
LOCATION:Scuola di Cucina International Chef Academy\, Viale Europa 1\, Siena\, Italia
ATTACH;FMTTYPE=image/png:https://www.internationalchefacademy.com/wp-content/uploads/2023/03/sfoglia-e-lievitati.png
END:VEVENT
BEGIN:VEVENT
DTSTART;VALUE=DATE:20260423
DTEND;VALUE=DATE:20260424
DTSTAMP:20260420T104022
CREATED:20230328T104009Z
LAST-MODIFIED:20260327T141723Z
UID:10000057-1776902400-1776988799@www.internationalchefacademy.com
SUMMARY:Browse sweets
DESCRIPTION:Puff pastry\, Croissant and Pain au chocolat. \nDurata: 3 + 3 hours
URL:https://www.internationalchefacademy.com/evento/browse-sweets/
LOCATION:Scuola di Cucina International Chef Academy\, Viale Europa 1\, Siena\, Italia
ATTACH;FMTTYPE=image/png:https://www.internationalchefacademy.com/wp-content/uploads/2023/03/sfoglia-e-lievitati.png
END:VEVENT
BEGIN:VEVENT
DTSTART;VALUE=DATE:20260427
DTEND;VALUE=DATE:20260428
DTSTAMP:20260420T104022
CREATED:20230328T102658Z
LAST-MODIFIED:20260327T141831Z
UID:10000052-1777248000-1777334399@www.internationalchefacademy.com
SUMMARY:Tortellini and ravioli
DESCRIPTION:Stuffed pasta: preparations and condiments. \nDuration: 4 hours
URL:https://www.internationalchefacademy.com/evento/tortellini-and-ravioli/
LOCATION:Scuola di Cucina International Chef Academy\, Viale Europa 1\, Siena\, Italia
ATTACH;FMTTYPE=image/png:https://www.internationalchefacademy.com/wp-content/uploads/2023/03/ravioli-e-tortellini.png
END:VEVENT
BEGIN:VEVENT
DTSTART;VALUE=DATE:20260427
DTEND;VALUE=DATE:20260428
DTSTAMP:20260420T104023
CREATED:20230329T080923Z
LAST-MODIFIED:20260327T141934Z
UID:10000060-1777248000-1777334399@www.internationalchefacademy.com
SUMMARY:Donuts and creams
DESCRIPTION:Dough and creams. \nDuration: 3 hours
URL:https://www.internationalchefacademy.com/evento/donuts-and-creams/
LOCATION:Scuola di Cucina International Chef Academy\, Viale Europa 1\, Siena\, Italia
ATTACH;FMTTYPE=image/png:https://www.internationalchefacademy.com/wp-content/uploads/2023/03/bomboloni.png
END:VEVENT
BEGIN:VEVENT
DTSTART;VALUE=DATE:20260429
DTEND;VALUE=DATE:20260430
DTSTAMP:20260420T104023
CREATED:20230328T105000Z
LAST-MODIFIED:20260327T142035Z
UID:10000062-1777420800-1777507199@www.internationalchefacademy.com
SUMMARY:Wet cooking
DESCRIPTION:Cuts\, cooking technique and presentation. \nDuration: 4 hours
URL:https://www.internationalchefacademy.com/evento/wet-cooking/
LOCATION:Scuola di Cucina International Chef Academy\, Viale Europa 1\, Siena\, Italia
ATTACH;FMTTYPE=image/jpeg:https://www.internationalchefacademy.com/wp-content/uploads/2023/03/Cotturainumido-1.jpg
END:VEVENT
BEGIN:VEVENT
DTSTART;VALUE=DATE:20260429
DTEND;VALUE=DATE:20260430
DTSTAMP:20260420T104023
CREATED:20230328T105251Z
LAST-MODIFIED:20231208T135645Z
UID:10000064-1777420800-1777507199@www.internationalchefacademy.com
SUMMARY:Bavarian and crumble
DESCRIPTION:White\, dark\, with gianduja. Combination of crunchiness and creaminess.  \nDuration: 3 hours
URL:https://www.internationalchefacademy.com/evento/bavarian-and-crumble/
LOCATION:Scuola di Cucina International Chef Academy\, Viale Europa 1\, Siena\, Italia
ATTACH;FMTTYPE=image/png:https://www.internationalchefacademy.com/wp-content/uploads/2023/03/bavarese.png
END:VEVENT
BEGIN:VEVENT
DTSTART;VALUE=DATE:20260430
DTEND;VALUE=DATE:20260501
DTSTAMP:20260420T104023
CREATED:20230328T103405Z
LAST-MODIFIED:20260327T142303Z
UID:10000055-1777507200-1777593599@www.internationalchefacademy.com
SUMMARY:Bakery
DESCRIPTION:Plumcakes\, muffins\, mini muffins\, cupcakes\, cakes and decorations. \nDuration: 3 hours
URL:https://www.internationalchefacademy.com/evento/bakery/
LOCATION:Scuola di Cucina International Chef Academy\, Viale Europa 1\, Siena\, Italia
ATTACH;FMTTYPE=image/png:https://www.internationalchefacademy.com/wp-content/uploads/2023/03/bakery.png
END:VEVENT
END:VCALENDAR