BEGIN:VCALENDAR
VERSION:2.0
PRODID:-//The International Chef Academy - ECPv6.0.11//NONSGML v1.0//EN
CALSCALE:GREGORIAN
METHOD:PUBLISH
X-WR-CALNAME:The International Chef Academy
X-ORIGINAL-URL:https://www.internationalchefacademy.com/en/
X-WR-CALDESC:Events for The International Chef Academy
REFRESH-INTERVAL;VALUE=DURATION:PT1H
X-Robots-Tag:noindex
X-PUBLISHED-TTL:PT1H
BEGIN:VTIMEZONE
TZID:Europe/Rome
BEGIN:DAYLIGHT
TZOFFSETFROM:+0100
TZOFFSETTO:+0200
TZNAME:CEST
DTSTART:20260329T010000
END:DAYLIGHT
BEGIN:STANDARD
TZOFFSETFROM:+0200
TZOFFSETTO:+0100
TZNAME:CET
DTSTART:20261025T010000
END:STANDARD
END:VTIMEZONE
BEGIN:VEVENT
DTSTART;VALUE=DATE:20260520
DTEND;VALUE=DATE:20260521
DTSTAMP:20260422T124037
CREATED:20230329T071548Z
LAST-MODIFIED:20260327T143622Z
UID:10000071-1779235200-1779321599@www.internationalchefacademy.com
SUMMARY:Vacuum cooking
DESCRIPTION:Preparations and temperatures. Preparation of meat and side dishes. \nDuration: 4 hours
URL:https://www.internationalchefacademy.com/evento/vacuum-cooking/
LOCATION:Scuola di Cucina International Chef Academy\, Viale Europa 1\, Siena\, Italia
ATTACH;FMTTYPE=image/png:https://www.internationalchefacademy.com/wp-content/uploads/2023/03/il-sottovuoto.png
END:VEVENT
BEGIN:VEVENT
DTSTART;VALUE=DATE:20260520
DTEND;VALUE=DATE:20260521
DTSTAMP:20260422T124037
CREATED:20230329T071758Z
LAST-MODIFIED:20260327T143743Z
UID:10000072-1779235200-1779321599@www.internationalchefacademy.com
SUMMARY:Typical Sienese sweets
DESCRIPTION:Preparations and temperatures. Making meat and side dishes. \nDuration: 3 hours
URL:https://www.internationalchefacademy.com/evento/typical-sienese-sweets/
LOCATION:Scuola di Cucina International Chef Academy\, Viale Europa 1\, Siena\, Italia
ATTACH;FMTTYPE=image/png:https://www.internationalchefacademy.com/wp-content/uploads/2023/03/dolcitipicisenesi.png
END:VEVENT
END:VCALENDAR